BEGIN:VCALENDAR
VERSION:2.0
PRODID:-//wp-events-plugin.com//7.2.3.1//EN
TZID:America/New_York
X-WR-TIMEZONE:America/New_York
BEGIN:VEVENT
UID:353@delhigardencenters.com
DTSTART;TZID=America/New_York:20260429T180000
DTEND;TZID=America/New_York:20260429T190000
DTSTAMP:20260306T185203Z
URL:https://delhigardencenters.com/events/signature-designer-urn/
SUMMARY:Signature Designer Urn
DESCRIPTION:Grab a friend\, bring your favorite bottle\, and join us for Si
 gnature Designer Urn Class — an elevated BYOB planting experience. Our d
 esigners will guide you step-by-step as you create a professionally styled
  urn using bold plants\, texture\, and the classic thriller\, filler\, spi
 ller technique. You’ll leave with a stunning statement piece and a conta
 iner ready to welcome guests all season long.
ATTACH;FMTTYPE=image/jpeg:https://delhigardencenters.com/wp-content/upload
 s/Signature-Designer-Urn-Class.jpg
CATEGORIES:Workshops
LOCATION:Delhi Flower & Garden Center\, 6282 Cincinnati-Dayton Road\, Liber
 ty Township\, OH\, 45044\, United States
X-APPLE-STRUCTURED-LOCATION;VALUE=URI;X-ADDRESS=6282 Cincinnati-Dayton Road
 \, Liberty Township\, OH\, 45044\, United States;X-APPLE-RADIUS=100;X-TITL
 E=Delhi Flower & Garden Center:geo:0,0
END:VEVENT
BEGIN:VTIMEZONE
TZID:America/New_York
X-LIC-LOCATION:America/New_York
BEGIN:DAYLIGHT
DTSTART:20260308T030000
TZOFFSETFROM:-0500
TZOFFSETTO:-0400
TZNAME:EDT
END:DAYLIGHT
END:VTIMEZONE
END:VCALENDAR