BEGIN:VCALENDAR
VERSION:2.0
PRODID:-//wp-events-plugin.com//7.2.3.1//EN
TZID:America/New_York
X-WR-TIMEZONE:America/New_York
BEGIN:VEVENT
UID:149@delhigardencenters.com
DTSTART;TZID=America/New_York;VALUE=DATE:20240929
DTEND;TZID=America/New_York;VALUE=DATE:20241007
DTSTAMP:20240919T185638Z
URL:https://delhigardencenters.com/events/scarecrow-making-contest/
SUMMARY:Scarecrow making contest
DESCRIPTION:Join our scarecrow making contest this fall!  Participants hav
 e two options:\nOption 1: Do it at Delhi!\n$30 Fee\n\nKit Includes:\n\n 	F
 rame\n 	Straw\n 	Paint\n 	Accessories\n 	and More!\n\nOption 2: Do it at h
 ome!\nFree frame and the freedom to use anything you find at home!\n\n&nbs
 p\;\n\nCapacity for the contest is 25.
ATTACH;FMTTYPE=image/jpeg:https://delhigardencenters.com/wp-content/upload
 s/scarecrow-contest-new.jpg
CATEGORIES:Community Events
LOCATION:Delhi Flower & Garden Center\, 6282 Cincinnati-Dayton Road\, Liber
 ty Township\, OH\, 45044\, United States
X-APPLE-STRUCTURED-LOCATION;VALUE=URI;X-ADDRESS=6282 Cincinnati-Dayton Road
 \, Liberty Township\, OH\, 45044\, United States;X-APPLE-RADIUS=100;X-TITL
 E=Delhi Flower & Garden Center:geo:0,0
END:VEVENT
BEGIN:VTIMEZONE
TZID:America/New_York
X-LIC-LOCATION:America/New_York
BEGIN:DAYLIGHT
DTSTART:20240310T030000
TZOFFSETFROM:-0500
TZOFFSETTO:-0400
TZNAME:EDT
END:DAYLIGHT
END:VTIMEZONE
END:VCALENDAR