BEGIN:VCALENDAR
VERSION:2.0
PRODID:-//wp-events-plugin.com//7.2.3.1//EN
TZID:America/New_York
X-WR-TIMEZONE:America/New_York
BEGIN:VEVENT
UID:324@delhigardencenters.com
DTSTART;TZID=America/New_York:20260425T150000
DTEND;TZID=America/New_York:20260425T160000
DTSTAMP:20260211T181323Z
URL:https://delhigardencenters.com/events/nativefest-plant-bingo/
SUMMARY:Nativefest: Plant Bingo
DESCRIPTION:It’s a craze across the nation!  Join us as we sit back and 
 play bingo for an hour with plant prizes including trees\, perennial packs
  and more.  Light refreshments will be provided as we relax in the greenh
 ouse and have some fun.  $25 for five rounds with multiple ways to win.
ATTACH;FMTTYPE=image/jpeg:https://delhigardencenters.com/wp-content/upload
 s/Nursery-Walkabout-Guest-Speakers-Bingo-Film-Marketplace-Pop-Up-Deli.jpg
CATEGORIES:Community Events
LOCATION:Delhi Flower & Garden Center\, 6282 Cincinnati-Dayton Road\, Liber
 ty Township\, OH\, 45044\, United States
X-APPLE-STRUCTURED-LOCATION;VALUE=URI;X-ADDRESS=6282 Cincinnati-Dayton Road
 \, Liberty Township\, OH\, 45044\, United States;X-APPLE-RADIUS=100;X-TITL
 E=Delhi Flower & Garden Center:geo:0,0
END:VEVENT
BEGIN:VTIMEZONE
TZID:America/New_York
X-LIC-LOCATION:America/New_York
BEGIN:DAYLIGHT
DTSTART:20260308T030000
TZOFFSETFROM:-0500
TZOFFSETTO:-0400
TZNAME:EDT
END:DAYLIGHT
END:VTIMEZONE
END:VCALENDAR