BEGIN:VCALENDAR
VERSION:2.0
PRODID:-//wp-events-plugin.com//7.2.3.1//EN
TZID:America/New_York
X-WR-TIMEZONE:America/New_York
BEGIN:VEVENT
UID:323@delhigardencenters.com
DTSTART;TZID=America/New_York:20260425T083000
DTEND;TZID=America/New_York:20260425T093000
DTSTAMP:20260316T163312Z
URL:https://delhigardencenters.com/events/nativefest-nursery-walkabout/
SUMMARY:Nativefest: Nursery Walkabout
DESCRIPTION:Register to get in early as we take a tour of the nursery to hi
 ghlight the natives we have to offer and why we brought them in. We have d
 oubled our dedicated area for natives and will have hundreds of plants to 
 offer. AND\, take 10% OFF your total nursery purchase!
ATTACH;FMTTYPE=image/jpeg:https://delhigardencenters.com/wp-content/upload
 s/Nursery-Walkabout-Guest-Speakers-Bingo-Film-Marketplace-Pop-Up-Deli.jpg
CATEGORIES:Community Events
LOCATION:Delhi Flower & Garden Center\, 6282 Cincinnati-Dayton Road\, Liber
 ty Township\, OH\, 45044\, United States
X-APPLE-STRUCTURED-LOCATION;VALUE=URI;X-ADDRESS=6282 Cincinnati-Dayton Road
 \, Liberty Township\, OH\, 45044\, United States;X-APPLE-RADIUS=100;X-TITL
 E=Delhi Flower & Garden Center:geo:0,0
END:VEVENT
BEGIN:VTIMEZONE
TZID:America/New_York
X-LIC-LOCATION:America/New_York
BEGIN:DAYLIGHT
DTSTART:20260308T030000
TZOFFSETFROM:-0500
TZOFFSETTO:-0400
TZNAME:EDT
END:DAYLIGHT
END:VTIMEZONE
END:VCALENDAR