BEGIN:VCALENDAR
VERSION:2.0
PRODID:-//wp-events-plugin.com//7.2.3.1//EN
TZID:America/New_York
X-WR-TIMEZONE:America/New_York
BEGIN:VEVENT
UID:352@delhigardencenters.com
DTSTART;TZID=America/New_York:20260426T120000
DTEND;TZID=America/New_York:20260426T130000
DTSTAMP:20260306T184854Z
URL:https://delhigardencenters.com/events/annual-porch-pots/
SUMMARY:Annual Porch Pots
DESCRIPTION:Bring your porch to life with our Blooms and Beyond class! Our
  friendly\, knowledgeable team will guide you step-by-step as you select\,
  plant\, and care for vibrant seasonal blooms\, sharing tips and tricks yo
 u can trust. You’ll leave with a beautiful\, ready-to-display container 
 and the confidence to keep your porch pot  flourishing all summer long.
ATTACH;FMTTYPE=image/jpeg:https://delhigardencenters.com/wp-content/upload
 s/Summer-Porch-Pot-4-26.jpg
CATEGORIES:Workshops
LOCATION:Delhi Flower & Garden Center\, 6282 Cincinnati-Dayton Road\, Liber
 ty Township\, OH\, 45044\, United States
X-APPLE-STRUCTURED-LOCATION;VALUE=URI;X-ADDRESS=6282 Cincinnati-Dayton Road
 \, Liberty Township\, OH\, 45044\, United States;X-APPLE-RADIUS=100;X-TITL
 E=Delhi Flower & Garden Center:geo:0,0
END:VEVENT
BEGIN:VTIMEZONE
TZID:America/New_York
X-LIC-LOCATION:America/New_York
BEGIN:DAYLIGHT
DTSTART:20260308T030000
TZOFFSETFROM:-0500
TZOFFSETTO:-0400
TZNAME:EDT
END:DAYLIGHT
END:VTIMEZONE
END:VCALENDAR